Workbook
Name female08: basis!$C$6
Name female10: basis!$C$12
Name female100: basis!$C$11
Name female1000: basis!$C$10
Name female67: basis!$C$5
Name femaleAge: male!$L$3
Name femaleTable: female!$A$2:$J$112
Name i_: basis!$B$1
Name jointTable: male!$A$3:$G$58
Name male08: basis!$B$6
Name male10: basis!$B$12
Name male100: basis!$B$11
Name male1000: basis!$B$10
Name male64: basis!$B$5
Name maleAge: male!$L$2
Name maleTable: male!$A$3:$G$53
Name married: male!$L$5
Name spouse: male!$L$4
Name xcol: male!$N$2
Name ycol: male!$N$3

Sheet basis
A1: interest | B1: 0.04
A3: life expectancy rule of thumb
B4: male | C4: female
A5: LE of 20 at age | B5: 64 | C5: 67
A6: loss of LE per year | B6: 0.8 | C6: 0.8
A8: qx rule of thumb
A9: 1 / qx | B9: male | C9: female
A10: 1000 | B10: 34 | C10: 40
A11: 100 | B11: 62 | C11: 67
A12: 10 | B12: 85 | C12: 87

Sheet male
A1: x | B1: lx | C1: qx | D1: ax | E1: lx | F1: qx | G1: ax | N1: column
B2: male | E2: female | K2: x | L2: 65 | N2: 2
A3: 50 | B3: 95375.3 | C3: =(B3-B4)/B3 -> 0.0035774462 | D3: =1 + D4/(1+i_) * (1-C3) -> 17.730357 | E3: 97183.5 | F3: =(E3-E4)/E3 -> 0.0022339183 | G3: =1 + G4/(1+i_) * (1-F3) -> 18.691406 | K3: y | L3: 62 | N3: 5
A4: 51 | B4: 95034.1 | C4: =(B4-B5)/B4 -> 0.0038207338 | D4: =1 + D5/(1+i_) * (1-C4) -> 17.462041 | E4: 96966.4 | F4: =(E4-E5)/E4 -> 0.0024523959 | G4: =1 + G5/(1+i_) * (1-F4) -> 18.440256 | K4: spouse % | L4: 0.5
A5: 52 | B5: 94671 | C5: =(B5-B6)/B5 -> 0.0040762219 | D5: =1 + D6/(1+i_) * (1-C5) -> 17.186186 | E5: 96728.6 | F5: =(E5-E6)/E5 -> 0.0025814495 | G5: =1 + G6/(1+i_) * (1-F5) -> 18.182457 | K5: % married | L5: 0.9
A6: 53 | B6: 94285.1 | C6: =(B6-B7)/B6 -> 0.0044015438 | D6: =1 + D7/(1+i_) * (1-C6) -> 16.902532 | E6: 96478.9 | F6: =(E6-E7)/E6 -> 0.002764335 | G6: =1 + G7/(1+i_) * (1-F6) -> 17.916004 | K6: t | L6: tpx | M6: 1 - tpx | N6: tpy | O6: tpx|y | P6: PV bond | Q6: PV reversionary | R6: PV x
A7: 54 | B7: 93870.1 | C7: =(B7-B8)/B7 -> 0.0047203529 | D7: =1 + D8/(1+i_) * (1-C7) -> 16.611751 | E7: 96212.2 | F7: =(E7-E8)/E7 -> 0.002964281 | G7: =1 + G8/(1+i_) * (1-F7) -> 17.641411 | K7: 0 | L7: =1-M7 -> 1 | M7: =1-VLOOKUP(maleAge+K7, jointTable,2,FALSE) / VLOOKUP(maleAge, jointTable,2,FALSE) -> 0 | N7: =VLOOKUP(femaleAge+K7, jointTable,ycol,FALSE) / VLOOKUP(femaleAge, jointTable,5,FALSE) -> 1 | O7: =M7*N7 -> 0 | P7: =(1+i_)^(-K7) -> 1 | Q7: =O7*P7 -> 0 | R7: =L7*P7 -> 1
A8: 55 | B8: 93427 | C8: =(B8-B9)/B8 -> 0.0050456506 | D8: =1 + D9/(1+i_) * (1-C8) -> 16.313225 | E8: 95927 | F8: =(E8-E9)/E8 -> 0.0032827046 | G8: =1 + G9/(1+i_) * (1-F8) -> 17.358523 | K8: =K7+1 -> 1 | L8: =1-M8 -> 0.98754059 | M8: =1-VLOOKUP(maleAge+K8, jointTable,2,FALSE) / VLOOKUP(maleAge, jointTable,2,FALSE) -> 0.012459407 | N8: =VLOOKUP(femaleAge+K8, jointTable,ycol,FALSE) / VLOOKUP(femaleAge, jointTable,5,FALSE) -> 0.99354912 | O8: =M8*N8 -> 0.012379033 | P8: =(1+i_)^(-K8) -> 0.96153846 | Q8: =O8*P8 -> 0.011902916 | R8: =L8*P8 -> 0.94955826
A9: 56 | B9: 92955.6 | C9: =(B9-B10)/B9 -> 0.0055940686 | D9: =1 + D10/(1+i_) * (1-C9) -> 16.006517 | E9: 95612.1 | F9: =(E9-E10)/E9 -> 0.003636569 | G9: =1 + G10/(1+i_) * (1-F9) -> 17.068896 | K9: =K8+1 -> 2 | L9: =1-M9 -> 0.97385934 | M9: =1-VLOOKUP(maleAge+K9, jointTable,2,FALSE) / VLOOKUP(maleAge, jointTable,2,FALSE) -> 0.026140665 | N9: =VLOOKUP(femaleAge+K9, jointTable,ycol,FALSE) / VLOOKUP(femaleAge, jointTable,5,FALSE) -> 0.98677463 | O9: =M9*N9 -> 0.025794945 | P9: =(1+i_)^(-K9) -> 0.92455621 | Q9: =O9*P9 -> 0.023848876 | R9: =L9*P9 -> 0.9003877
A10: 57 | B10: 92435.6 | C10: =(B10-B11)/B10 -> 0.0060593538 | D10: =1 + D11/(1+i_) * (1-C10) -> 15.694574 | E10: 95264.4 | F10: =(E10-E11)/E10 -> 0.0039280151 | G10: =1 + G11/(1+i_) * (1-F10) -> 16.772647 | K10: =K9+1 -> 3 | L10: =1-M10 -> 0.9594635 | M10: =1-VLOOKUP(maleAge+K10, jointTable,2,FALSE) / VLOOKUP(maleAge, jointTable,2,FALSE) -> 0.040536503 | N10: =VLOOKUP(femaleAge+K10, jointTable,ycol,FALSE) / VLOOKUP(femaleAge, jointTable,5,FALSE) -> 0.97949374 | O10: =M10*N10 -> 0.03970525 | P10: =(1+i_)^(-K10) -> 0.88899636 | Q10: =O10*P10 -> 0.035297823 | R10: =L10*P10 -> 0.85295956
A11: 58 | B11: 91875.5 | C11: =(B11-B12)/B11 -> 0.0066949296 | D11: =1 + D12/(1+i_) * (1-C11) -> 15.375523 | E11: 94890.2 | F11: =(E11-E12)/E11 -> 0.0043671528 | G11: =1 + G12/(1+i_) * (1-F11) -> 16.46824 | K11: =K10+1 -> 4 | L11: =1-M11 -> 0.94377864 | M11: =1-VLOOKUP(maleAge+K11, jointTable,2,FALSE) / VLOOKUP(maleAge, jointTable,2,FALSE) -> 0.056221365 | N11: =VLOOKUP(femaleAge+K11, jointTable,ycol,FALSE) / VLOOKUP(femaleAge, jointTable,5,FALSE) -> 0.97154733 | O11: =M11*N11 -> 0.054621717 | P11: =(1+i_)^(-K11) -> 0.85480419 | Q11: =O11*P11 -> 0.046690872 | R11: =L11*P11 -> 0.80674593
A12: 59 | B12: 91260.4 | C12: =(B12-B13)/B12 -> 0.007238627 | D12: =1 + D13/(1+i_) * (1-C12) -> 15.051311 | E12: 94475.8 | F12: =(E12-E13)/E12 -> 0.0047070255 | G12: =1 + G13/(1+i_) * (1-F12) -> 16.157533 | K12: =K11+1 -> 5 | L12: =1-M12 -> 0.92683834 | M12: =1-VLOOKUP(maleAge+K12, jointTable,2,FALSE) / VLOOKUP(maleAge, jointTable,2,FALSE) -> 0.073161664 | N12: =VLOOKUP(femaleAge+K12, jointTable,ycol,FALSE) / VLOOKUP(femaleAge, jointTable,5,FALSE) -> 0.96302679 | O12: =M12*N12 -> 0.070456643 | P12: =(1+i_)^(-K12) -> 0.82192711 | Q12: =O12*P12 -> 0.057910225 | R12: =L12*P12 -> 0.76179355
A13: 60 | B13: 90599.8 | C13: =(B13-B14)/B13 -> 0.007912821 | D13: =1 + D14/(1+i_) * (1-C13) -> 14.719916 | E13: 94031.1 | F13: =(E13-E14)/E13 -> 0.0052472001 | G13: =1 + G14/(1+i_) * (1-F13) -> 15.838386 | K13: =K12+1 -> 6 | L13: =1-M13 -> 0.90900857 | M13: =1-VLOOKUP(maleAge+K13, jointTable,2,FALSE) / VLOOKUP(maleAge, jointTable,2,FALSE) -> 0.090991425 | N13: =VLOOKUP(femaleAge+K13, jointTable,ycol,FALSE) / VLOOKUP(femaleAge, jointTable,5,FALSE) -> 0.95382677 | O13: =M13*N13 -> 0.086790057 | P13: =(1+i_)^(-K13) -> 0.79031453 | Q13: =O13*P13 -> 0.068591443 | R13: =L13*P13 -> 0.71840268
A14: 61 | B14: 89882.9 | C14: =(B14-B15)/B14 -> 0.0086356804 | D14: =1 + D15/(1+i_) * (1-C14) -> 14.382519 | E14: 93537.7 | F14: =(E14-E15)/E14 -> 0.005635161 | G14: =1 + G15/(1+i_) * (1-F14) -> 15.513322 | K14: =K13+1 -> 7 | L14: =1-M14 -> 0.89010636 | M14: =1-VLOOKUP(maleAge+K14, jointTable,2,FALSE) / VLOOKUP(maleAge, jointTable,2,FALSE) -> 0.10989364 | N14: =VLOOKUP(femaleAge+K14, jointTable,ycol,FALSE) / VLOOKUP(femaleAge, jointTable,5,FALSE) -> 0.94371394 | O14: =M14*N14 -> 0.10370816 | P14: =(1+i_)^(-K14) -> 0.75991781 | Q14: =O14*P14 -> 0.078809675 | R14: =L14*P14 -> 0.67640768
A15: 62 | B15: 89106.7 | C15: =(B15-B16)/B15 -> 0.0096019716 | D15: =1 + D16/(1+i_) * (1-C15) -> 14.039056 | E15: 93010.6 | F15: =(E15-E16)/E15 -> 0.0064508776 | G15: =1 + G16/(1+i_) * (1-F15) -> 15.179394 | K15: =K14+1 -> 8 | L15: =1-M15 -> 0.86982827 | M15: =1-VLOOKUP(maleAge+K15, jointTable,2,FALSE) / VLOOKUP(maleAge, jointTable,2,FALSE) -> 0.13017173 | N15: =VLOOKUP(femaleAge+K15, jointTable,ycol,FALSE) / VLOOKUP(femaleAge, jointTable,5,FALSE) -> 0.9329012 | O15: =M15*N15 -> 0.12143736 | P15: =(1+i_)^(-K15) -> 0.73069021 | Q15: =O15*P15 -> 0.088733092 | R15: =L15*P15 -> 0.635575
A16: 63 | B16: 88251.1 | C16: =(B16-B17)/B16 -> 0.01055171 | D16: =1 + D17/(1+i_) * (1-C16) -> 13.69209 | E16: 92410.6 | F16: =(E16-E17)/E16 -> 0.0068184819 | G16: =1 + G17/(1+i_) * (1-F16) -> 14.842315 | K16: =K15+1 -> 9 | L16: =1-M16 -> 0.8473879 | M16: =1-VLOOKUP(maleAge+K16, jointTable,2,FALSE) / VLOOKUP(maleAge, jointTable,2,FALSE) -> 0.1526121 | N16: =VLOOKUP(femaleAge+K16, jointTable,ycol,FALSE) / VLOOKUP(femaleAge, jointTable,5,FALSE) -> 0.92087031 | O16: =M16*N16 -> 0.14053595 | P16: =(1+i_)^(-K16) -> 0.70258674 | Q16: =O16*P16 -> 0.098738694 | R16: =L16*P16 -> 0.5953635
A17: 64 | B17: 87319.9 | C17: =(B17-B18)/B17 -> 0.011171566 | D17: =1 + D18/(1+i_) * (1-C17) -> 13.340539 | E17: 91780.5 | F17: =(E17-E18)/E17 -> 0.0073784736 | G17: =1 + G18/(1+i_) * (1-F17) -> 14.494841 | K17: =K16+1 -> 10 | L17: =1-M17 -> 0.823003 | M17: =1-VLOOKUP(maleAge+K17, jointTable,2,FALSE) / VLOOKUP(maleAge, jointTable,2,FALSE) -> 0.176997 | N17: =VLOOKUP(femaleAge+K17, jointTable,ycol,FALSE) / VLOOKUP(femaleAge, jointTable,5,FALSE) -> 0.9083126 | O17: =M17*N17 -> 0.16076861 | P17: =(1+i_)^(-K17) -> 0.67556417 | Q17: =O17*P17 -> 0.10860951 | R17: =L17*P17 -> 0.55599134
A18: 65 | B18: 86344.4 | C18: =(B18-B19)/B18 -> 0.012459407 | D18: =1 + D19/(1+i_) * (1-C18) -> 12.979158 | E18: 91103.3 | F18: =(E18-E19)/E18 -> 0.0081127687 | G18: =1 + G19/(1+i_) * (1-F18) -> 14.138958 | K18: =K17+1 -> 11 | L18: =1-M18 -> 0.79642108 | M18: =1-VLOOKUP(maleAge+K18, jointTable,2,FALSE) / VLOOKUP(maleAge, jointTable,2,FALSE) -> 0.20357892 | N18: =VLOOKUP(femaleAge+K18, jointTable,ycol,FALSE) / VLOOKUP(femaleAge, jointTable,5,FALSE) -> 0.89423464 | O18: =M18*N18 -> 0.18204732 | P18: =(1+i_)^(-K18) -> 0.64958093 | Q18: =O18*P18 -> 0.11825447 | R18: =L18*P18 -> 0.51733994
A19: 66 | B19: 85268.6 | C19: =(B19-B20)/B19 -> 0.013853869 | D19: =1 + D20/(1+i_) * (1-C19) -> 12.615506 | E19: 90364.2 | F19: =(E19-E20)/E19 -> 0.008770066 | G19: =1 + G20/(1+i_) * (1-F19) -> 13.77628 | K19: =K18+1 -> 12 | L19: =1-M19 -> 0.76796411 | M19: =1-VLOOKUP(maleAge+K19, jointTable,2,FALSE) / VLOOKUP(maleAge, jointTable,2,FALSE) -> 0.23203589 | N19: =VLOOKUP(femaleAge+K19, jointTable,ycol,FALSE) / VLOOKUP(femaleAge, jointTable,5,FALSE) -> 0.87877403 | O19: =M19*N19 -> 0.20390712 | P19: =(1+i_)^(-K19) -> 0.62459705 | Q19: =O19*P19 -> 0.12735978 | R19: =L19*P19 -> 0.47966812
... A46: 93 | B46: 11228.7 | C46: =(B46-B47)/B46 -> 0.22298218 | D46: =1 + D47/(1+i_) * (1-C46) -> 3.279252 | E46: 19407.2 | F46: =(E46-E47)/E46 -> 0.18956882 | G46: =1 + G47/(1+i_) * (1-F46) -> 3.5905687 | K46: =K45+1 -> 39 | L46: =1-M46 -> 0 | M46: =1-VLOOKUP(maleAge+K46, jointTable,2,FALSE) / VLOOKUP(maleAge, jointTable,2,FALSE) -> 1 | N46: =VLOOKUP(femaleAge+K46, jointTable,ycol,FALSE) / VLOOKUP(femaleAge, jointTable,5,FALSE) -> 0 | O46: =M46*N46 -> 0 | P46: =(1+i_)^(-K46) -> 0.21662061 | Q46: =O46*P46 -> 0 | R46: =L46*P46 -> 0
A47: 94 | B47: 8724.9 | C47: =(B47-B48)/B47 -> 0.24461025 | D47: =1 + D48/(1+i_) * (1-C47) -> 3.0506663 | E47: 15728.2 | F47: =(E47-E48)/E47 -> 0.20786867 | G47: =1 + G48/(1+i_) * (1-F47) -> 3.3243926
A48: 95 | B48: 6590.7 | C48: =(B48-B49)/B48 -> 0.26895474 | D48: =1 + D49/(1+i_) * (1-C48) -> 2.8233015 | E48: 12458.8 | F48: =(E48-E49)/E48 -> 0.23022281 | G48: =1 + G49/(1+i_) * (1-F48) -> 3.0517267
A49: 96 | B49: 4818.1 | C49: =(B49-B50)/B49 -> 0.29048795 | D49: =1 + D50/(1+i_) * (1-C49) -> 2.5938661 | E49: 9590.5 | F49: =(E49-E50)/E49 -> 0.25317762 | G49: =1 + G50/(1+i_) * (1-F49) -> 2.7719654 | Q49: =SUM(Q7:Q46) -> 3.6016945 | R49: =SUM(R7:R46) -> 12.979158
A50: 97 | B50: 3418.5 | C50: =(B50-B51)/B50 -> 0.31405587 | D50: =1 + D51/(1+i_) * (1-C50) -> 2.3362828 | E50: 7162.4 | F50: =(E50-E51)/E50 -> 0.27793756 | G50: =1 + G51/(1+i_) * (1-F50) -> 2.4675801
A51: 98 | B51: 2344.9 | C51: =(B51-B52)/B51 -> 0.33549405 | D51: =1 + D52/(1+i_) * (1-C51) -> 2.0260165 | E51: 5171.7 | F51: =(E51-E52)/E51 -> 0.29965002 | G51: =1 + G52/(1+i_) * (1-F51) -> 2.113783
A52: 99 | B52: 1558.2 | C52: =(B52-B53)/B52 -> 0.36997818 | D52: =1 + D53/(1+i_) * (1-C52) -> 1.6057902 | E52: 3622 | F52: =(E52-E53)/E52 -> 0.31990613 | G52: =1 + G53/(1+i_) * (1-F52) -> 1.6539364 | M52: spouse's pension | O52: =Q49*spouse/R49 * married -> 0.12487424 | P52: of main pension
A53: 100 | B53: 981.7 | C53: =C52*C52/C51 -> 0.4080068 | D53: 1 | E53: 2463.3 | F53: =F52*F52/F51 -> 0.34153154 | G53: 1
A54: =A53+1 -> 101 | B54: 0
A55: =A54+1 -> 102 | B55: 0
A56: =A55+1 -> 103 | B56: 0
A57: =A56+1 -> 104 | B57: 0
A58: =A57+1 -> 105 | B58: 0

Sheet female
A1: x | B1: lx | C1: qx | D1: RoT qx | E1: ln qx | F1: ln RoT qx | G1: ax | H1: Ax | I1: ex | J1: RoT ex
A2: 0 | B2: 100000 | C2: =(B2-B3)/B2 -> 0.003503 | D2: =IF(female!A2<=female100,1/100 * 10 ^ ((female!A2-female100)/(female100-female1000)),1/100 * 10 ^ ((female!A2-female100)/(female10-female100))) -> 3.3000348e-05 | E2: =LN(C2)/LN(10) -> -2.4555599 | F2: =LN(D2)/LN(10) -> -4.4814815 | G2: =1 + G3/(1+i_) * (1-C2) -> 24.758434 | H2: =C2/(1+i_) + (1-C2) * H3 / (1+i_) -> 0.047752356 | I2: =(I3+1)*(1-C2)+ 0.5 * C2 -> 82.860536 | J2: =20+female08*(female67-female!A2) -> 73.6
A3: 1 | B3: 99649.7 | C3: =(B3-B4)/B3 -> 0.00021374876 | D3: =IF(female!A3<=female100,1/100 * 10 ^ ((female!A3-female100)/(female100-female1000)),1/100 * 10 ^ ((female!A3-female100)/(female10-female100))) -> 3.5938137e-05 | E3: =LN(C3)/LN(10) -> -3.6700964 | F3: =LN(D3)/LN(10) -> -4.4444444 | G3: =1 + G4/(1+i_) * (1-C3) -> 24.795631 | H3: =C3/(1+i_) + (1-C3) * H4 / (1+i_) -> 0.046321715 | I3: =(I4+1)*(1-C3)+ 0.5 * C3 -> 82.150059 | J3: =20+female08*(female67-female!A3) -> 72.8
A4: 2 | B4: 99628.4 | C4: =(B4-B5)/B4 -> 0.0001144252 | D4: =IF(female!A4<=female100,1/100 * 10 ^ ((female!A4-female100)/(female100-female1000)),1/100 * 10 ^ ((female!A4-female100)/(female10-female100))) -> 3.9137456e-05 | E4: =LN(C4)/LN(10) -> -3.9414783 | F4: =LN(D4)/LN(10) -> -4.4074074 | G4: =1 + G5/(1+i_) * (1-C4) -> 24.752747 | H4: =C4/(1+i_) + (1-C4) * H5 / (1+i_) -> 0.047971089 | I4: =(I5+1)*(1-C4)+ 0.5 * C4 -> 81.167516 | J4: =20+female08*(female67-female!A4) -> 72
A5: 3 | B5: 99617 | C5: =(B5-B6)/B5 -> 9.5365249e-05 | D5: =IF(female!A5<=female100,1/100 * 10 ^ ((female!A5-female100)/(female100-female1000)),1/100 * 10 ^ ((female!A5-female100)/(female10-female100))) -> 4.2621588e-05 | E5: =LN(C5)/LN(10) -> -4.0206099 | F5: =LN(D5)/LN(10) -> -4.3703704 | G5: =1 + G6/(1+i_) * (1-C5) -> 24.705684 | H5: =C5/(1+i_) + (1-C5) * H6 / (1+i_) -> 0.049781203 | I5: =(I6+1)*(1-C5)+ 0.5 * C5 -> 80.176747 | J5: =20+female08*(female67-female!A5) -> 71.2
A6: 4 | B6: 99607.5 | C6: =(B6-B7)/B6 -> 6.3248249e-05 | D6: =IF(female!A6<=female100,1/100 * 10 ^ ((female!A6-female100)/(female100-female1000)),1/100 * 10 ^ ((female!A6-female100)/(female10-female100))) -> 4.6415888e-05 | E6: =LN(C6)/LN(10) -> -4.1989515 | F6: =LN(D6)/LN(10) -> -4.3333333 | G6: =1 + G7/(1+i_) * (1-C6) -> 24.656262 | H6: =C6/(1+i_) + (1-C6) * H7 / (1+i_) -> 0.051682015 | I6: =(I7+1)*(1-C6)+ 0.5 * C6 -> 79.184346 | J6: =20+female08*(female67-female!A6) -> 70.4
A7: 5 | B7: 99601.2 | C7: =(B7-B8)/B7 -> 7.4296294e-05 | D7: =IF(female!A7<=female100,1/100 * 10 ^ ((female!A7-female100)/(female100-female1000)),1/100 * 10 ^ ((female!A7-female100)/(female10-female100))) -> 5.0547968e-05 | E7: =LN(C7)/LN(10) -> -4.1290329 | F7: =LN(D7)/LN(10) -> -4.2962963 | G7: =1 + G8/(1+i_) * (1-C7) -> 24.604069 | H7: =C7/(1+i_) + (1-C7) * H8 / (1+i_) -> 0.053689443 | I7: =(I8+1)*(1-C7)+ 0.5 * C7 -> 78.189323 | J7: =20+female08*(female67-female!A7) -> 69.6
A8: 6 | B8: 99593.8 | C8: =(B8-B9)/B8 -> 7.1289578e-05 | D8: =IF(female!A8<=female100,1/100 * 10 ^ ((female!A8-female100)/(female100-female1000)),1/100 * 10 ^ ((female!A8-female100)/(female10-female100))) -> 5.5047898e-05 | E8: =LN(C8)/LN(10) -> -4.146974 | F8: =LN(D8)/LN(10) -> -4.2592593 | G8: =1 + G9/(1+i_) * (1-C8) -> 24.550056 | H8: =C8/(1+i_) + (1-C8) * H9 / (1+i_) -> 0.055766868 | I8: =(I9+1)*(1-C8)+ 0.5 * C8 -> 77.195096 | J8: =20+female08*(female67-female!A8) -> 68.8
A9: 7 | B9: 99586.7 | C9: =(B9-B10)/B9 -> 5.4224108e-05 | D9: =IF(female!A9<=female100,1/100 * 10 ^ ((female!A9-female100)/(female100-female1000)),1/100 * 10 ^ ((female!A9-female100)/(female10-female100))) -> 5.9948425e-05 | E9: =LN(C9)/LN(10) -> -4.2658076 | F9: =LN(D9)/LN(10) -> -4.2222222 | G9: =1 + G10/(1+i_) * (1-C9) -> 24.493804 | H9: =C9/(1+i_) + (1-C9) * H10 / (1+i_) -> 0.057930383 | I9: =(I10+1)*(1-C9)+ 0.5 * C9 -> 76.200564 | J9: =20+female08*(female67-female!A9) -> 68
A10: 8 | B10: 99581.3 | C10: =(B10-B11)/B10 -> 5.8243867e-05 | D10: =IF(female!A10<=female100,1/100 * 10 ^ ((female!A10-female100)/(female100-female1000)),1/100 * 10 ^ ((female!A10-female100)/(female10-female100))) -> 6.5285211e-05 | E10: =LN(C10)/LN(10) -> -4.2347498 | F10: =LN(D10)/LN(10) -> -4.1851852 | G10: =1 + G11/(1+i_) * (1-C10) -> 24.434881 | H10: =C10/(1+i_) + (1-C10) * H11 / (1+i_) -> 0.060196638 | I10: =(I11+1)*(1-C10)+ 0.5 * C10 -> 75.204669 | J10: =20+female08*(female67-female!A10) -> 67.2
A11: 9 | B11: 99575.5 | C11: =(B11-B12)/B11 -> 5.1217418e-05 | D11: =IF(female!A11<=female100,1/100 * 10 ^ ((female!A11-female100)/(female100-female1000)),1/100 * 10 ^ ((female!A11-female100)/(female10-female100))) -> 7.1097094e-05 | E11: =LN(C11)/LN(10) -> -4.2905823 | F11: =LN(D11)/LN(10) -> -4.1481481 | G11: =1 + G12/(1+i_) * (1-C11) -> 24.373696 | H11: =C11/(1+i_) + (1-C11) * H12 / (1+i_) -> 0.062549903 | I11: =(I12+1)*(1-C11)+ 0.5 * C11 -> 74.20902 | J11: =20+female08*(female67-female!A11) -> 66.4
A12: 10 | B12: 99570.4 | C12: =(B12-B13)/B12 -> 6.5280445e-05 | D12: =IF(female!A12<=female100,1/100 * 10 ^ ((female!A12-female100)/(female100-female1000)),1/100 * 10 ^ ((female!A12-female100)/(female10-female100))) -> 7.7426368e-05 | E12: =LN(C12)/LN(10) -> -4.1852169 | F12: =LN(D12)/LN(10) -> -4.1111111 | G12: =1 + G13/(1+i_) * (1-C12) -> 24.309889 | H12: =C12/(1+i_) + (1-C12) * H13 / (1+i_) -> 0.065004011 | I12: =(I13+1)*(1-C12)+ 0.5 * C12 -> 73.212795 | J12: =20+female08*(female67-female!A12) -> 65.6
A13: 11 | B13: 99563.9 | C13: =(B13-B14)/B13 -> 5.5240906e-05 | D13: =IF(female!A13<=female100,1/100 * 10 ^ ((female!A13-female100)/(female100-female1000)),1/100 * 10 ^ ((female!A13-female100)/(female10-female100))) -> 8.4319093e-05 | E13: =LN(C13)/LN(10) -> -4.2577392 | F13: =LN(D13)/LN(10) -> -4.0740741 | G13: =1 + G14/(1+i_) * (1-C13) -> 24.243867 | H13: =C13/(1+i_) + (1-C13) * H14 / (1+i_) -> 0.0675433 | I13: =(I14+1)*(1-C13)+ 0.5 * C13 -> 72.217542 | J13: =20+female08*(female67-female!A13) -> 64.8
... A101: 99 | B101: 3622 | C101: =(B101-B102)/B101 -> 0.31990613 | D101: =IF(female!A101<=female100,1/100 * 10 ^ ((female!A101-female100)/(female100-female1000)),1/100 * 10 ^ ((female!A101-female100)/(female10-female100))) -> 0.39810717 | E101: =LN(C101)/LN(10) -> -0.49497744 | F101: =LN(D101)/LN(10) -> -0.4 | G101: =1 + G102/(1+i_) * (1-C101) -> 2.6383365 | H101: =C101/(1+i_) + (1-C101) * H102 / (1+i_) -> 0.89828933 | I101: =(I102+1)*(1-C101)+ 0.5 * C101 -> 2.2994529 | J101: =20+female08*(female67-female!A101) -> -5.6
A102: 100 | B102: 2463.3 | C102: =C101*C101/C100 -> 0.34153154 | D102: =IF(female!A102<=female100,1/100 * 10 ^ ((female!A102-female100)/(female100-female1000)),1/100 * 10 ^ ((female!A102-female100)/(female10-female100))) -> 0.44668359 | E102: =LN(C102)/LN(10) -> -0.46656919 | F102: =LN(D102)/LN(10) -> -0.35 | G102: =1 + G103/(1+i_) * (1-C102) -> 2.5053452 | H102: =C102/(1+i_) + (1-C102) * H103 / (1+i_) -> 0.90327938 | I102: =(I103+1)*(1-C102)+ 0.5 * C102 -> 2.145889 | J102: =20+female08*(female67-female!A102) -> -6.4
A103: =A102+1 -> 101 | B103: =B102*(1-C102) -> 1622.0054 | C103: =C102*C102/C101 -> 0.36461881 | D103: =IF(female!A103<=female100,1/100 * 10 ^ ((female!A103-female100)/(female100-female1000)),1/100 * 10 ^ ((female!A103-female100)/(female10-female100))) -> 0.50118723 | E103: =LN(C103)/LN(10) -> -0.43816093 | F103: =LN(D103)/LN(10) -> -0.3 | G103: =1 + G104/(1+i_) * (1-C103) -> 2.3775763 | H103: =C103/(1+i_) + (1-C103) * H104 / (1+i_) -> 0.90798429 | I103: =(I104+1)*(1-C103)+ 0.5 * C103 -> 1.9995715 | J103: =20+female08*(female67-female!A103) -> -7.2
A104: =A103+1 -> 102 | B104: =B103*(1-C103) -> 1030.5917 | C104: =C103*C103/C102 -> 0.38926676 | D104: =IF(female!A104<=female100,1/100 * 10 ^ ((female!A104-female100)/(female100-female1000)),1/100 * 10 ^ ((female!A104-female100)/(female10-female100))) -> 0.56234133 | E104: =LN(C104)/LN(10) -> -0.40975268 | F104: =LN(D104)/LN(10) -> -0.25 | G104: =1 + G105/(1+i_) * (1-C104) -> 2.2548344 | H104: =C104/(1+i_) + (1-C104) * H105 / (1+i_) -> 0.91234185 | I104: =(I105+1)*(1-C104)+ 0.5 * C104 -> 1.8601132 | J104: =20+female08*(female67-female!A104) -> -8
A105: =A104+1 -> 103 | B105: =B104*(1-C104) -> 629.41661 | C105: =C104*C104/C103 -> 0.41558089 | D105: =IF(female!A105<=female100,1/100 * 10 ^ ((female!A105-female100)/(female100-female1000)),1/100 * 10 ^ ((female!A105-female100)/(female10-female100))) -> 0.63095734 | E105: =LN(C105)/LN(10) -> -0.38134443 | F105: =LN(D105)/LN(10) -> -0.2 | G105: =1 + G106/(1+i_) * (1-C105) -> 2.1368212 | H105: =C105/(1+i_) + (1-C105) * H106 / (1+i_) -> 0.91622451 | I105: =(I106+1)*(1-C105)+ 0.5 * C105 -> 1.7270168 | J105: =20+female08*(female67-female!A105) -> -8.8
A106: =A105+1 -> 104 | B106: =B105*(1-C105) -> 367.8431 | C106: =C105*C105/C104 -> 0.44367384 | D106: =IF(female!A106<=female100,1/100 * 10 ^ ((female!A106-female100)/(female100-female1000)),1/100 * 10 ^ ((female!A106-female100)/(female10-female100))) -> 0.70794578 | E106: =LN(C106)/LN(10) -> -0.35293618 | F106: =LN(D106)/LN(10) -> -0.15 | G106: =1 + G107/(1+i_) * (1-C106) -> 2.0230244 | H106: =C106/(1+i_) + (1-C106) * H107 / (1+i_) -> 0.91936179 | I106: =(I107+1)*(1-C106)+ 0.5 * C106 -> 1.5995494 | J106: =20+female08*(female67-female!A106) -> -9.6
A107: =A106+1 -> 105 | B107: =B106*(1-C106) -> 204.64074 | C107: =C106*C106/C105 -> 0.47366585 | D107: =IF(female!A107<=female100,1/100 * 10 ^ ((female!A107-female100)/(female100-female1000)),1/100 * 10 ^ ((female!A107-female100)/(female10-female100))) -> 0.79432823 | E107: =LN(C107)/LN(10) -> -0.32452793 | F107: =LN(D107)/LN(10) -> -0.1 | G107: =1 + G108/(1+i_) * (1-C107) -> 1.9124489 | H107: =C107/(1+i_) + (1-C107) * H108 / (1+i_) -> 0.92115463 | I107: =(I108+1)*(1-C107)+ 0.5 * C107 -> 1.4764475 | J107: =20+female08*(female67-female!A107) -> -10.4
A108: =A107+1 -> 106 | B108: =B107*(1-C107) -> 107.70941 | C108: =C107*C107/C106 -> 0.5056853 | D108: =IF(female!A108<=female100,1/100 * 10 ^ ((female!A108-female100)/(female100-female1000)),1/100 * 10 ^ ((female!A108-female100)/(female10-female100))) -> 0.89125094 | E108: =LN(C108)/LN(10) -> -0.29611967 | F108: =LN(D108)/LN(10) -> -0.05 | G108: =1 + G109/(1+i_) * (1-C108) -> 1.8029361 | H108: =C108/(1+i_) + (1-C108) * H109 / (1+i_) -> 0.92020434 | I108: =(I109+1)*(1-C108)+ 0.5 * C108 -> 1.3551854 | J108: =20+female08*(female67-female!A108) -> -11.2
A109: =A108+1 -> 107 | B109: =B108*(1-C108) -> 53.242344 | C109: =C108*C108/C107 -> 0.53986924 | D109: =IF(female!A109<=female100,1/100 * 10 ^ ((female!A109-female100)/(female100-female1000)),1/100 * 10 ^ ((female!A109-female100)/(female10-female100))) -> 1 | E109: =LN(C109)/LN(10) -> -0.26771142 | F109: =LN(D109)/LN(10) -> 0 | G109: =1 + G110/(1+i_) * (1-C109) -> 1.6893156 | H109: =C109/(1+i_) + (1-C109) * H110 / (1+i_) -> 0.9130362 | I109: =(I110+1)*(1-C109)+ 0.5 * C109 -> 1.2300425 | J109: =20+female08*(female67-female!A109) -> -12
A110: =A109+1 -> 108 | B110: =B109*(1-C109) -> 24.49844 | C110: =C109*C109/C108 -> 0.57636398 | D110: =IF(female!A110<=female100,1/100 * 10 ^ ((female!A110-female100)/(female100-female1000)),1/100 * 10 ^ ((female!A110-female100)/(female10-female100))) -> 1.1220185 | E110: =LN(C110)/LN(10) -> -0.23930317 | F110: =LN(D110)/LN(10) -> 0.05 | G110: =1 + G111/(1+i_) * (1-C110) -> 1.5580097 | H110: =C110/(1+i_) + (1-C110) * H111 / (1+i_) -> 0.89037387 | I110: =(I111+1)*(1-C110)+ 0.5 * C110 -> 1.0865979 | J110: =20+female08*(female67-female!A110) -> -12.8
A111: =A110+1 -> 109 | B111: =B110*(1-C110) -> 10.378422 | C111: =C110*C110/C109 -> 0.61532574 | D111: =IF(female!A111<=female100,1/100 * 10 ^ ((female!A111-female100)/(female100-female1000)),1/100 * 10 ^ ((female!A111-female100)/(female10-female100))) -> 1.2589254 | E111: =LN(C111)/LN(10) -> -0.21089492 | F111: =LN(D111)/LN(10) -> 0.1 | G111: =1 + G112/(1+i_) * (1-C111) -> 1.3698791 | H111: =C111/(1+i_) + (1-C111) * H112 / (1+i_) -> 0.82529538 | I111: =(I112+1)*(1-C111)+ 0.5 * C111 -> 0.88467426 | J111: =20+female08*(female67-female!A111) -> -13.6
A112: =A111+1 -> 110 | B112: =B111*(1-C111) -> 3.9923117 | C112: =C111*C111/C110 -> 0.65692129 | D112: =IF(female!A112<=female100,1/100 * 10 ^ ((female!A112-female100)/(female100-female1000)),1/100 * 10 ^ ((female!A112-female100)/(female10-female100))) -> 1.4125375 | E112: =LN(C112)/LN(10) -> -0.18248666 | F112: =LN(D112)/LN(10) -> 0.15 | G112: =1 + G113/(1+i_) * (1-C112) -> 1 | H112: =C112/(1+i_) + (1-C112) * H113 / (1+i_) -> 0.63165509 | I112: 0.5 | J112: =20+female08*(female67-female!A112) -> -14.4
